BEGIN:VCALENDAR
VERSION:2.0
PRODID:spatie/icalendar-generator
DESCRIPTION:Veranstaltungen von Internetseite vom Kreisfeuerwehrverband Alt
 ötting
X-WR-CALDESC:Veranstaltungen von Internetseite vom Kreisfeuerwehrverband Al
 tötting
REFRESH-INTERVAL;VALUE=DURATION:PT1440M
X-PUBLISHED-TTL:PT1440M
BEGIN:VTIMEZONE
TZID:Europe/Berlin
BEGIN:DAYLIGHT
DTSTART:20230326T020000Z
TZOFFSETFROM:+0100
TZOFFSETTO:+0200
END:DAYLIGHT
BEGIN:STANDARD
DTSTART:20231029T030000Z
TZOFFSETFROM:+0200
TZOFFSETTO:+0100
END:STANDARD
END:VTIMEZONE
BEGIN:VTIMEZONE
TZID:UTC
BEGIN:STANDARD
DTSTART:20250725T153302Z
TZOFFSETFROM:+0000
TZOFFSETTO:+0000
END:STANDARD
END:VTIMEZONE
BEGIN:VEVENT
UID:9-9
DTSTAMP:20260421T153302Z
SUMMARY:150 Jahre Freiwillige Feuerwehr Unterneukirchen
LOCATION:
ORGANIZER;CN=Public Submitter:MAILTO:
DTSTART;TZID=Europe/Berlin;VALUE=DATE:20230906
DTEND;TZID=Europe/Berlin;VALUE=DATE:20230911
X-ALT-DESC;FMTTYPE=TEXT/HTML:
CATEGORIES:Feuerwehrfest
URL;VALUE=URI:https://kfv-altoetting.de/mc-events/150-jahre-freiwillige-feu
 erwehr-unterneukirchen/
METHOD:PUBLISH
END:VEVENT
END:VCALENDAR