BEGIN:VCALENDAR
VERSION:2.0
PRODID:spatie/icalendar-generator
DESCRIPTION:Veranstaltungen von Internetseite vom Kreisfeuerwehrverband Alt
 ötting
X-WR-CALDESC:Veranstaltungen von Internetseite vom Kreisfeuerwehrverband Al
 tötting
REFRESH-INTERVAL;VALUE=DURATION:PT1440M
X-PUBLISHED-TTL:PT1440M
BEGIN:VTIMEZONE
TZID:Europe/Berlin
BEGIN:STANDARD
DTSTART:20231029T030000Z
TZOFFSETFROM:+0200
TZOFFSETTO:+0100
END:STANDARD
BEGIN:DAYLIGHT
DTSTART:20240331T020000Z
TZOFFSETFROM:+0100
TZOFFSETTO:+0200
END:DAYLIGHT
BEGIN:STANDARD
DTSTART:20241027T030000Z
TZOFFSETFROM:+0200
TZOFFSETTO:+0100
END:STANDARD
END:VTIMEZONE
BEGIN:VTIMEZONE
TZID:UTC
BEGIN:STANDARD
DTSTART:20250725T100117Z
TZOFFSETFROM:+0000
TZOFFSETTO:+0000
END:STANDARD
END:VTIMEZONE
BEGIN:VEVENT
UID:10-10
DTSTAMP:20260421T100117Z
SUMMARY:150 Jahre Feuerwehr Perach
LOCATION:
ORGANIZER;CN=Public Submitter:MAILTO:
DTSTART;TZID=Europe/Berlin;VALUE=DATE:20240522
DTEND;TZID=Europe/Berlin;VALUE=DATE:20240527
X-ALT-DESC;FMTTYPE=TEXT/HTML:
CATEGORIES:Feuerwehrfest
URL;VALUE=URI:https://kfv-altoetting.de/mc-events/150-jahre-feuerwehr-perac
 h/
METHOD:PUBLISH
END:VEVENT
END:VCALENDAR